BEGIN:VCALENDAR
VERSION:2.0
PRODID:-//PACO | Puertorriquenos Asociados For Community Organization - ECPv6.15.14//NONSGML v1.0//EN
CALSCALE:GREGORIAN
METHOD:PUBLISH
X-ORIGINAL-URL:https://pacoagency.org
X-WR-CALDESC:Events for PACO | Puertorriquenos Asociados For Community Organization
REFRESH-INTERVAL;VALUE=DURATION:PT1H
X-Robots-Tag:noindex
X-PUBLISHED-TTL:PT1H
BEGIN:VTIMEZONE
TZID:America/New_York
BEGIN:DAYLIGHT
TZOFFSETFROM:-0500
TZOFFSETTO:-0400
TZNAME:EDT
DTSTART:20240310T070000
END:DAYLIGHT
BEGIN:STANDARD
TZOFFSETFROM:-0400
TZOFFSETTO:-0500
TZNAME:EST
DTSTART:20241103T060000
END:STANDARD
BEGIN:DAYLIGHT
TZOFFSETFROM:-0500
TZOFFSETTO:-0400
TZNAME:EDT
DTSTART:20250309T070000
END:DAYLIGHT
BEGIN:STANDARD
TZOFFSETFROM:-0400
TZOFFSETTO:-0500
TZNAME:EST
DTSTART:20251102T060000
END:STANDARD
BEGIN:DAYLIGHT
TZOFFSETFROM:-0500
TZOFFSETTO:-0400
TZNAME:EDT
DTSTART:20260308T070000
END:DAYLIGHT
BEGIN:STANDARD
TZOFFSETFROM:-0400
TZOFFSETTO:-0500
TZNAME:EST
DTSTART:20261101T060000
END:STANDARD
END:VTIMEZONE
BEGIN:VEVENT
DTSTART;TZID=America/New_York:20250911T123000
DTEND;TZID=America/New_York:20250911T133000
DTSTAMP:20260421T144602
CREATED:20250813T011809Z
LAST-MODIFIED:20250911T090305Z
UID:7011-1757593800-1757597400@pacoagency.org
SUMMARY:Senior Aerobics Class
DESCRIPTION:Free Aerobics Classes for Seniors\nSponsored by the City of Jersey City\, Dept. of Health Senior Affairs
URL:https://pacoagency.org/senior-event/senior-aerobics-class-27/
LOCATION:396 Manila Avenue
END:VEVENT
BEGIN:VEVENT
DTSTART;TZID=America/New_York:20250912T093000
DTEND;TZID=America/New_York:20250912T140000
DTSTAMP:20260421T144602
CREATED:20250905T073413Z
LAST-MODIFIED:20250912T091809Z
UID:7075-1757669400-1757685600@pacoagency.org
SUMMARY:Senior Shopping Day / Día de Compras  – Burlington\, Elizabeth\, NJ
DESCRIPTION:Join us for a special Senior Trip to Burlington in Elizabeth\, NJ\, from 9:30 AM to 2:00 PM.\nThis outing is made possible through a collaboration with the City of Jersey City Division of Senior Affairs.\nEnjoy a fun day of shopping and community!\n📍 Burlington – North Bergen\, NJ\n8101 Tonnelle Avenue\nNorth Bergen\, NJ 07047\nAcompáñenos en un viaje especial para personas mayores a Burlington en Elizabeth\, NJ\, de 9:30 a.m. a 2:00 p.m.\nEsta salida es posible gracias a la colaboración con la División de Asuntos para Personas Mayores de la Ciudad de Jersey City.\n¡Disfrute de un día de compras y convivencia!
URL:https://pacoagency.org/senior-event/senior-shopping-day-dia-de-compras-burlington-elizabeth-nj/
END:VEVENT
BEGIN:VEVENT
DTSTART;TZID=America/New_York:20250912T130000
DTEND;TZID=America/New_York:20250912T160000
DTSTAMP:20260421T144602
CREATED:20250823T041004Z
LAST-MODIFIED:20250904T071807Z
UID:7036-1757682000-1757692800@pacoagency.org
SUMMARY:Bingo-w/ Odea -HOLD
DESCRIPTION:This is just a HOLD
URL:https://pacoagency.org/senior-event/bingo-w-odea-hold-3/
END:VEVENT
BEGIN:VEVENT
DTSTART;TZID=America/New_York:20250913T100000
DTEND;TZID=America/New_York:20250913T130000
DTSTAMP:20260421T144602
CREATED:20250910T084909Z
LAST-MODIFIED:20250913T093311Z
UID:7090-1757757600-1757768400@pacoagency.org
SUMMARY:Health Screening Event
DESCRIPTION:Community Health Screening event services- Blood Pressure and cholesterol\, Health education and wellness referrals. vaccinations\, HIV/STI screenings.
URL:https://pacoagency.org/senior-event/health-screening-event/
END:VEVENT
BEGIN:VEVENT
DTSTART;TZID=America/New_York:20250915T093000
DTEND;TZID=America/New_York:20250915T130000
DTSTAMP:20260421T144602
CREATED:20250910T084909Z
LAST-MODIFIED:20250915T100356Z
UID:7092-1757928600-1757941200@pacoagency.org
SUMMARY:Dance Exercise
DESCRIPTION:Dance Exercise provided by the city of jersey city- Exercise class will be held at the Joseph Connors Center. Transportation and lunch will be provided.
URL:https://pacoagency.org/senior-event/dance-exercise/
LOCATION:Joseph Connors Senior Center
END:VEVENT
BEGIN:VEVENT
DTSTART;TZID=America/New_York:20250915T130000
DTEND;TZID=America/New_York:20250915T160000
DTSTAMP:20260421T144602
CREATED:20250823T041016Z
LAST-MODIFIED:20250904T071807Z
UID:7037-1757941200-1757952000@pacoagency.org
SUMMARY:Bingo-w/ Odea -HOLD
DESCRIPTION:This is just a HOLD
URL:https://pacoagency.org/senior-event/bingo-w-odea-hold-4/
END:VEVENT
BEGIN:VEVENT
DTSTART;TZID=America/New_York:20250916T130000
DTEND;TZID=America/New_York:20250916T160000
DTSTAMP:20260421T144602
CREATED:20250910T084909Z
LAST-MODIFIED:20250916T101810Z
UID:7093-1758027600-1758038400@pacoagency.org
SUMMARY:Flue Shots
DESCRIPTION:Influenzas vaccines will be available by Newport Pharmacy.
URL:https://pacoagency.org/senior-event/flue-shots/
LOCATION:390 Manila Ave-Community Room
END:VEVENT
BEGIN:VEVENT
DTSTART;TZID=America/New_York:20250917T130000
DTEND;TZID=America/New_York:20250917T160000
DTSTAMP:20260421T144602
CREATED:20250823T041016Z
LAST-MODIFIED:20250904T071807Z
UID:7038-1758114000-1758124800@pacoagency.org
SUMMARY:Bingo-w/ Odea -HOLD
DESCRIPTION:This is just a HOLD
URL:https://pacoagency.org/senior-event/bingo-w-odea-hold-5/
END:VEVENT
BEGIN:VEVENT
DTSTART;TZID=America/New_York:20250917T140000
DTEND;TZID=America/New_York:20250917T160000
DTSTAMP:20260421T144602
CREATED:20250913T093311Z
LAST-MODIFIED:20250917T103336Z
UID:7114-1758117600-1758124800@pacoagency.org
SUMMARY:Game Day
DESCRIPTION:Come and enjoy an afternoon of fun and games. We will be playing\, chess\, Ben bag toss\, Jenga\, dominos\, cards\, Imatch\, cornhole launch
URL:https://pacoagency.org/senior-event/game-day-2/
LOCATION:390 Manila Ave-Community Room
END:VEVENT
BEGIN:VEVENT
DTSTART;TZID=America/New_York:20250918T123000
DTEND;TZID=America/New_York:20250918T133000
DTSTAMP:20260421T144602
CREATED:20250820T031812Z
LAST-MODIFIED:20250918T104812Z
UID:7024-1758198600-1758202200@pacoagency.org
SUMMARY:Senior Aerobics Class
DESCRIPTION:Free Aerobics Classes for Seniors\nSponsored by the City of Jersey City\, Dept. of Health Senior Affairs
URL:https://pacoagency.org/senior-event/senior-aerobics-class-28/
LOCATION:396 Manila Avenue
END:VEVENT
BEGIN:VEVENT
DTSTART;TZID=America/New_York:20250919T130000
DTEND;TZID=America/New_York:20250919T160000
DTSTAMP:20260421T144602
CREATED:20250823T041016Z
LAST-MODIFIED:20250904T071818Z
UID:7039-1758286800-1758297600@pacoagency.org
SUMMARY:Bingo-w/ Odea -HOLD
DESCRIPTION:This is just a HOLD
URL:https://pacoagency.org/senior-event/bingo-w-odea-hold-6/
END:VEVENT
BEGIN:VEVENT
DTSTART;TZID=America/New_York:20250919T133000
DTEND;TZID=America/New_York:20250919T160000
DTSTAMP:20260421T144602
CREATED:20250910T084909Z
LAST-MODIFIED:20250919T110317Z
UID:7094-1758288600-1758297600@pacoagency.org
SUMMARY:Afternoon Movie
DESCRIPTION:Come and enjoy an afternoon movie. Movie feature will be Miracle in Cell No.7
URL:https://pacoagency.org/senior-event/afternoon-movie/
LOCATION:390 Manila Ave-Community Room
END:VEVENT
BEGIN:VEVENT
DTSTART;TZID=America/New_York:20250922T093000
DTEND;TZID=America/New_York:20250922T130000
DTSTAMP:20260421T144602
CREATED:20250910T084909Z
LAST-MODIFIED:20250922T114815Z
UID:7096-1758533400-1758546000@pacoagency.org
SUMMARY:Dance Exercise
DESCRIPTION:Dance Exercise provided by the city of jersey city- Exercise class will be held at the Joseph Connors Center. Transportation and lunch will be provided.
URL:https://pacoagency.org/senior-event/dance-exercise-2/
LOCATION:Joseph Connors Senior Center
END:VEVENT
BEGIN:VEVENT
DTSTART;TZID=America/New_York:20250923T140000
DTEND;TZID=America/New_York:20250923T160000
DTSTAMP:20260421T144602
CREATED:20250916T101810Z
LAST-MODIFIED:20250923T120422Z
UID:7121-1758636000-1758643200@pacoagency.org
SUMMARY:Game Day
DESCRIPTION:Come and enjoy an afternoon of fun and games. We will be playing\, chess\, Ben bag toss\, Jenga\, dominos\, cards\, Imatch\, cornhole launch
URL:https://pacoagency.org/senior-event/game-day-3/
LOCATION:390 Manila Ave-Community Room
END:VEVENT
BEGIN:VEVENT
DTSTART;TZID=America/New_York:20250924T140000
DTEND;TZID=America/New_York:20250924T160000
DTSTAMP:20260421T144602
CREATED:20250910T084909Z
LAST-MODIFIED:20250924T121807Z
UID:7097-1758722400-1758729600@pacoagency.org
SUMMARY:Jewelry Workshop
DESCRIPTION:Learn how to make beaded bracelets. The work shop includes all tools and a variety of beads and charms.
URL:https://pacoagency.org/senior-event/jewelry-workshop/
LOCATION:390 Manila Ave-Community Room
END:VEVENT
BEGIN:VEVENT
DTSTART;TZID=America/New_York:20250925T123000
DTEND;TZID=America/New_York:20250925T133000
DTSTAMP:20260421T144602
CREATED:20250827T050344Z
LAST-MODIFIED:20250925T123312Z
UID:7050-1758803400-1758807000@pacoagency.org
SUMMARY:Senior Aerobics Class
DESCRIPTION:Free Aerobics Classes for Seniors\nSponsored by the City of Jersey City\, Dept. of Health Senior Affairs
URL:https://pacoagency.org/senior-event/senior-aerobics-class-29/
LOCATION:396 Manila Avenue
END:VEVENT
BEGIN:VEVENT
DTSTART;TZID=America/New_York:20250926T140000
DTEND;TZID=America/New_York:20250926T160000
DTSTAMP:20260421T144602
CREATED:20250910T084921Z
LAST-MODIFIED:20250926T124825Z
UID:7098-1758895200-1758902400@pacoagency.org
SUMMARY:Afternoon Movie
DESCRIPTION:Come and enjoy an afternoon movie. Movie feature will be Red Notice
URL:https://pacoagency.org/senior-event/afternoon-movie-2/
LOCATION:390 Manila Ave-Community Room
END:VEVENT
BEGIN:VEVENT
DTSTART;TZID=America/New_York:20250927T090000
DTEND;TZID=America/New_York:20250927T170000
DTSTAMP:20260421T144602
CREATED:20250906T074839Z
LAST-MODIFIED:20250927T130324Z
UID:7081-1758963600-1758992400@pacoagency.org
SUMMARY:Community Flea Market/Mercado de Pulgas
DESCRIPTION:Come be part of the fun! The Villa Borinquen Community Flea Market is happening on Saturday\, September 27\, 2025\, from 9:00 AM to 5:00 PM. Whether you want to clear out some space\, sell hidden treasures\, or just shop for great finds—this is the perfect event for you!\nVendor Registration Required ($10 Villa tenants / $20 non-tenants)\n✨ Clothing\, books\, toys\, electronics\, and more.\n✨ Meet your neighbors and support the community.\n✨ Proceeds will benefit PACO’s Senior Services Activities.\n👉 Want to participate as a vendor?\nPlease contact Elizabeth Núñez (enunez@pacohousing.orgor  201-656-4111) or Eugenia Francisco (efrancisco@pacoagency.org) for details.\n#############################################################\n¡Sea parte de la diversión! El Mercado de Pulgas Comunitario de Villa Borinquen se llevará a cabo el sábado 27 de septiembre de 2025\, de 9:00 a.m. a 5:00 p.m.. Ya sea que quiera hacer espacio en casa\, vender tesoros escondidos o simplemente venir a comprar buenas ofertas\, ¡este es el evento perfecto para usted!\nSe requiere registro de vendedores ($10 inquilinos de Villa / $20 no inquilinos)\n👉 ¿Quiere participar como vendedor?\nPor favor comuníquese con Elizabeth Núñez (enunez@pacohousing.org / 201-656-4111) o Gina Francisco (efrancisco@pacoagency.org) para más información.
URL:https://pacoagency.org/senior-event/community-flea-market-mercado-de-pulgas/
END:VEVENT
BEGIN:VEVENT
DTSTART;TZID=America/New_York:20250929T090000
DTEND;TZID=America/New_York:20250929T123000
DTSTAMP:20260421T144602
CREATED:20250910T084921Z
LAST-MODIFIED:20250929T133359Z
UID:7099-1759136400-1759149000@pacoagency.org
SUMMARY:Cinema Day
DESCRIPTION:🎬🎉 FREE MOVIE DAY! 🍿🚍\n🎥 Get ready for a fun and FREE day at the movies! In partnership with Bill O’Dea\, is inviting you to enjoy a complimentary movie screening\, plus free transportation\, plus FREE popcorn & a drink!🍿\n🎬🎉 ¡DÍA DE CINE GRATIS! 🍿🚍\n🎥 ¡Prepárase para un día increíble y GRATIS en el cine! en colaboración con Bill O’Dea\, te invita a disfrutar de una función especial\, con transporte incluido\, totalmente gratis! 🚌✨
URL:https://pacoagency.org/senior-event/cinema-day-7/
LOCATION:360-394 Springfield Ave\, Newark\, NJ\, United States
END:VEVENT
BEGIN:VEVENT
DTSTART;TZID=America/New_York:20250929T130000
DTEND;TZID=America/New_York:20250929T140000
DTSTAMP:20260421T144602
CREATED:20250831T060432Z
LAST-MODIFIED:20250929T133400Z
UID:7062-1759150800-1759154400@pacoagency.org
SUMMARY:Protecting Our Environment & Community / Protegiendo Nuestro Medio Ambiente y Comunidad
DESCRIPTION:Join us for a FREE Presentation on Helping Residents Be Stewards of Our Environment\, followed by an exciting game of Bingo! Learn practical tips on sustainability and protecting our community\, then enjoy a fun afternoon with friends.\n📅 Date: Monday\, September 29\n🕐 Time: 1:00 PM – 2:30 PM\n¡Acompáñenos a una Presentación GRATUITA sobre cómo ser buenos guardianes de nuestro medio ambiente\, seguida de un divertido juego de Bingo! Aprenda consejos prácticos sobre sostenibilidad y cómo proteger nuestra comunidad\, y luego disfrute de una tarde amena con amigos.
URL:https://pacoagency.org/senior-event/protecting-our-environment-community-protegiendo-nuestro-medio-ambiente-y-comunidad/
END:VEVENT
BEGIN:VEVENT
DTSTART;TZID=America/New_York:20250929T130000
DTEND;TZID=America/New_York:20250929T140000
DTSTAMP:20260421T144602
CREATED:20250831T060432Z
LAST-MODIFIED:20250929T133400Z
UID:7063-1759150800-1759154400@pacoagency.org
SUMMARY:Community Sidewalk Clean-Up / Limpieza Comunitaria de Aceras
DESCRIPTION:Join us for our Sidewalk Clean-Up Day in partnership with the City of Jersey City! Let’s work together to keep our community clean and welcoming.\n📅 Date: Monday\, September 29\, 2025\n🕐 Time: 1:00 PM – 2:30 PM\n¡Acompáñenos en nuestro Día de Limpieza de Aceras en colaboración con la Ciudad de Jersey City! Trabajemos juntos para mantener nuestra comunidad limpia y acogedora.
URL:https://pacoagency.org/senior-event/community-sidewalk-clean-up-limpieza-comunitaria-de-aceras-2/
END:VEVENT
BEGIN:VEVENT
DTSTART;TZID=America/New_York:20250930T140000
DTEND;TZID=America/New_York:20250930T160000
DTSTAMP:20260421T144602
CREATED:20250913T093323Z
LAST-MODIFIED:20250930T134823Z
UID:7115-1759240800-1759248000@pacoagency.org
SUMMARY:Senior Birthdays
DESCRIPTION:Birthday Month- Everyone who signs up brings a dish to share
URL:https://pacoagency.org/senior-event/senior-birthdays/
LOCATION:390 Manila Ave-Community Room
END:VEVENT
BEGIN:VEVENT
DTSTART;TZID=America/New_York:20251001T140000
DTEND;TZID=America/New_York:20251001T160000
DTSTAMP:20260421T144602
CREATED:20250902T065053Z
LAST-MODIFIED:20251001T140314Z
UID:7068-1759327200-1759334400@pacoagency.org
SUMMARY:Health Screening & Free Vaccines / Evaluación de Salud y Vacunas Gratis
DESCRIPTION:Join us for a Community Health Screening offering Blood Pressure and Glucose checks along with FREE COVID-19 and Flu vaccinations.\nPresented in collaboration with the Jersey City Department of Health & Human Services and RWJBarnabas Health – Jersey City Medical Center\, this event will help you stay informed and protected this season.\n✔️ Get your blood pressure and glucose levels checked\n✔️ Receive your flu vaccine at no cost\n✔️ Access resources to maintain a healthy lifestyle year-round\n📅 Date: Wednesday\, October 1\, 2025\n🕐 Time: 2:00 PM – 4:00 PM\nAcompáñenos en una jornada comunitaria de salud con evaluaciones de presión arterial y glucosa junto con vacunas GRATUITAS contra el COVID-19 y el Flu.\nPresentado en colaboración con el Departamento de Salud y Servicios Humanos de Jersey City y RWJBarnabas Health – Jersey City Medical Center\, este evento le ayudará a mantenerse informado y protegido esta temporada.\n✔️ Revise su presión arterial y niveles de glucosa\n✔️ Reciba su vacuna contra el flu\n✔️ Obtenga recursos para mantener un estilo de vida saludable todo el año
URL:https://pacoagency.org/senior-event/health-screening-free-vaccines-evaluacion-de-salud-y-vacunas-gratis/
END:VEVENT
BEGIN:VEVENT
DTSTART;TZID=America/New_York:20251002T180000
DTEND;TZID=America/New_York:20251002T190000
DTSTAMP:20260421T144602
CREATED:20250905T073425Z
LAST-MODIFIED:20251002T141918Z
UID:7076-1759428000-1759431600@pacoagency.org
SUMMARY:🎶 Bohemian Evening  /Una Noche de Bohemia 🎶
DESCRIPTION:📅✨ Save the Date! ✨📅\nJoin us on Thursday\, October 2\, 2025 for a magical night of music and culture\, part of our new Hispanic Heritage Series for Seniors.\n📅✨ ¡Reserva la Fecha! ✨📅\nAcompáñanos el jueves\, 2 de octubre de 2025 para una noche mágica de música y cultura\, parte de nuestra nueva Serie de Herencia Hispana para Personas Mayores.
URL:https://pacoagency.org/senior-event/%f0%9f%8e%b6-bohemian-evening-una-noche-noche-de-bohemia-%f0%9f%8e%b6/
END:VEVENT
BEGIN:VEVENT
DTSTART;TZID=America/New_York:20251003T090000
DTEND;TZID=America/New_York:20251003T140000
DTSTAMP:20260421T144602
CREATED:20250930T134823Z
LAST-MODIFIED:20251003T143355Z
UID:7140-1759482000-1759500000@pacoagency.org
SUMMARY:Senior Trip
DESCRIPTION:Enjoy the day at Riamede Farm picking pumpkins and apples.
URL:https://pacoagency.org/senior-event/senior-trip/
LOCATION:122 Oakdale Rd\, Chester\, NJ\, United States
END:VEVENT
BEGIN:VEVENT
DTSTART;TZID=America/New_York:20251008T140000
DTEND;TZID=America/New_York:20251008T160000
DTSTAMP:20260421T144602
CREATED:20251008T154814Z
LAST-MODIFIED:20251008T154814Z
UID:7157-1759932000-1759939200@pacoagency.org
SUMMARY:Game Day
DESCRIPTION:Senior Game Day- Come play various games chess\, Jenga\, cards\, dominos\, etc.
URL:https://pacoagency.org/senior-event/game-day-4/
END:VEVENT
BEGIN:VEVENT
DTSTART;TZID=America/New_York:20251008T180000
DTEND;TZID=America/New_York:20251008T190000
DTSTAMP:20260421T144602
CREATED:20250909T083425Z
LAST-MODIFIED:20251008T154814Z
UID:7087-1759946400-1759950000@pacoagency.org
SUMMARY:Reunión por Zoom: Todos los Cuadros de Villa y VBII | Zoom Meeting: All Quads & VBII
DESCRIPTION:Reunión para los residentes de Villa Borinquen (Todos los Cuadros) y VBII vía Zoom\nEstas reuniones ofrecen actualizaciones importantes\, un espacio para preguntas y preocupaciones\, y fortalecen la comunicación entre la administración y los inquilinos.\nZoom Meeting for Villa Borinquen (All Quads) and VBII Residents\nThese meetings provide important updates\, a space for questions and concerns\, and help strengthen communication between management and tenants.
URL:https://pacoagency.org/senior-event/reunion-por-zoom-todos-los-cuadros-de-villa-y-vbii-zoom-meeting-all-quads-vbii/
LOCATION:ZOOM
END:VEVENT
BEGIN:VEVENT
DTSTART;TZID=America/New_York:20251009T140000
DTEND;TZID=America/New_York:20251009T160000
DTSTAMP:20260421T144602
CREATED:20251008T154814Z
LAST-MODIFIED:20251009T160326Z
UID:7158-1760018400-1760025600@pacoagency.org
SUMMARY:Jewelry Workshop
DESCRIPTION:Jewelry work shop event. Learn how to make beaded bracelets. The work shop includes all tools and a variety of beads and charms.
URL:https://pacoagency.org/senior-event/jewelry-workshop-2/
LOCATION:390 Manila Ave-Community Room
END:VEVENT
BEGIN:VEVENT
DTSTART;TZID=America/New_York:20251010T140000
DTEND;TZID=America/New_York:20251010T160000
DTSTAMP:20260421T144602
CREATED:20251008T154814Z
LAST-MODIFIED:20251010T161811Z
UID:7159-1760104800-1760112000@pacoagency.org
SUMMARY:Afternoon Movie
DESCRIPTION:Come and enjoy an afternoon movie. Movie feature will be Marry Me (featuring Jennifer Lopez and Owen Wilson. When a pop star’s on-stage wedding to her celebrity fiancé implodes\, she impulsively picks a high school math teacher in the audience to marry instead)
URL:https://pacoagency.org/senior-event/afternoon-movie-3/
LOCATION:390 Manila Ave-Community Room
END:VEVENT
BEGIN:VEVENT
DTSTART;TZID=America/New_York:20251013T140000
DTEND;TZID=America/New_York:20251013T160000
DTSTAMP:20260421T144602
CREATED:20251008T154814Z
LAST-MODIFIED:20251013T170342Z
UID:7160-1760364000-1760371200@pacoagency.org
SUMMARY:Paint & Sip
DESCRIPTION:Enjoy a relaxing afternoon of instructional painting and delicious drinks to sip on.
URL:https://pacoagency.org/senior-event/paint-sip/
LOCATION:390 Manila Ave-Community Room
END:VEVENT
END:VCALENDAR