BEGIN:VCALENDAR
VERSION:2.0
PRODID:-//PACO | Puertorriquenos Asociados For Community Organization - ECPv6.15.14//NONSGML v1.0//EN
CALSCALE:GREGORIAN
METHOD:PUBLISH
X-WR-CALNAME:PACO | Puertorriquenos Asociados For Community Organization
X-ORIGINAL-URL:https://pacoagency.org
X-WR-CALDESC:Events for PACO | Puertorriquenos Asociados For Community Organization
REFRESH-INTERVAL;VALUE=DURATION:PT1H
X-Robots-Tag:noindex
X-PUBLISHED-TTL:PT1H
BEGIN:VTIMEZONE
TZID:America/New_York
BEGIN:DAYLIGHT
TZOFFSETFROM:-0500
TZOFFSETTO:-0400
TZNAME:EDT
DTSTART:20240310T070000
END:DAYLIGHT
BEGIN:STANDARD
TZOFFSETFROM:-0400
TZOFFSETTO:-0500
TZNAME:EST
DTSTART:20241103T060000
END:STANDARD
BEGIN:DAYLIGHT
TZOFFSETFROM:-0500
TZOFFSETTO:-0400
TZNAME:EDT
DTSTART:20250309T070000
END:DAYLIGHT
BEGIN:STANDARD
TZOFFSETFROM:-0400
TZOFFSETTO:-0500
TZNAME:EST
DTSTART:20251102T060000
END:STANDARD
BEGIN:DAYLIGHT
TZOFFSETFROM:-0500
TZOFFSETTO:-0400
TZNAME:EDT
DTSTART:20260308T070000
END:DAYLIGHT
BEGIN:STANDARD
TZOFFSETFROM:-0400
TZOFFSETTO:-0500
TZNAME:EST
DTSTART:20261101T060000
END:STANDARD
END:VTIMEZONE
BEGIN:VEVENT
DTSTART;TZID=America/New_York:20250515T123000
DTEND;TZID=America/New_York:20250515T133000
DTSTAMP:20260421T140949
CREATED:20250422T210134Z
LAST-MODIFIED:20250515T020937Z
UID:6777-1747312200-1747315800@pacoagency.org
SUMMARY:Senior Aerobics Class
DESCRIPTION:Free Aerobics Classes for Seniors\nSponsored by the City of Jersey City\, Dept. of Health Senior Affairs
URL:https://pacoagency.org/senior-event/senior-aerobics-class-10/
LOCATION:396 Manila Avenue
END:VEVENT
BEGIN:VEVENT
DTSTART;TZID=America/New_York:20250514T130000
DTEND;TZID=America/New_York:20250514T140000
DTSTAMP:20260421T140949
CREATED:20250422T210134Z
LAST-MODIFIED:20250514T015040Z
UID:6776-1747227600-1747231200@pacoagency.org
SUMMARY:Discover Homewatch CareGivers’ Services – Descubra los Servicios de Homewatch CareGivers
DESCRIPTION:Join us to discover how Homewatch CareGivers supports seniors at home with quality care\, RN oversight\, and more. Learn what services are available to help you or your loved ones stay safe and independent at home.\n🧓🏽👵🏾 Come Learn About Homewatch CareGivers’ Services\n✨ ¡Conozca los Servicios de Homewatch CareGivers!\nAcompáñenos para aprender cómo Homewatch CareGivers apoya a nuestros mayores con atención de calidad\, supervisión de enfermería\, y más. Conozca los servicios disponibles para usted o sus seres queridos
URL:https://pacoagency.org/senior-event/discover-homewatch-caregivers-services-descubra-los-servicios-de-homewatch-caregivers/
END:VEVENT
BEGIN:VEVENT
DTSTART;VALUE=DATE:20250511
DTEND;VALUE=DATE:20250512
DTSTAMP:20260421T140949
CREATED:20250422T210134Z
LAST-MODIFIED:20250510T005019Z
UID:6775-1746921600-1747007999@pacoagency.org
SUMMARY:🌷 Happy Mother’s Day 🌷  ¡Feliz Día de las Madres! 🌷
DESCRIPTION:🌷 Happy Mother’s Day! 🌷\nToday\, we honor the wisdom\, strength\, and love of every mother\, grandmother\, and caregiver in our community.  PACO celebrates you today and always. 💐\n🌷 ¡Feliz Día de las Madres! 🌷\nHoy celebramos la sabiduría\, fortaleza y amor de cada madre\, abuela y cuidadora en nuestra comunidad. PACO las honra hoy y siempre. 💐
URL:https://pacoagency.org/senior-event/%f0%9f%8c%b7-happy-mothers-day-%f0%9f%8c%b7-feliz-dia-de-las-madres-%f0%9f%8c%b7/
END:VEVENT
BEGIN:VEVENT
DTSTART;TZID=America/New_York:20250509T130000
DTEND;TZID=America/New_York:20250509T160000
DTSTAMP:20260421T140949
CREATED:20250422T210121Z
LAST-MODIFIED:20250509T003402Z
UID:6774-1746795600-1746806400@pacoagency.org
SUMMARY:🌸 Save the Date: Mother’s Day Celebration | Reserva la Fecha: Celebración del Día de las Madres 🌸
DESCRIPTION:Join us as we celebrate the amazing mothers in our community with a special afternoon of love\, laughter\, and surprises. More details and the event theme coming soon!\nAcompáñenos para celebrar a las maravillosas madres de nuestra comunidad con una tarde especial llena de amor\, alegría y sorpresas. ¡Pronto compartiremos más detalles y el tema del evento!
URL:https://pacoagency.org/senior-event/%f0%9f%8c%b8-save-the-date-mothers-day-celebration-reserva-la-fecha-celebracion-del-dia-de-las-madres-%f0%9f%8c%b8/
END:VEVENT
BEGIN:VEVENT
DTSTART;TZID=America/New_York:20250508T123000
DTEND;TZID=America/New_York:20250508T133000
DTSTAMP:20260421T140949
CREATED:20250422T210121Z
LAST-MODIFIED:20250508T001909Z
UID:6773-1746707400-1746711000@pacoagency.org
SUMMARY:Senior Aerobics Class
DESCRIPTION:Free Aerobics Classes for Seniors\nSponsored by the City of Jersey City\, Dept. of Health Senior Affairs
URL:https://pacoagency.org/senior-event/senior-aerobics-class-9/
LOCATION:396 Manila Avenue
END:VEVENT
BEGIN:VEVENT
DTSTART;TZID=America/New_York:20250507T180000
DTEND;TZID=America/New_York:20250507T190000
DTSTAMP:20260421T140949
CREATED:20250423T211302Z
LAST-MODIFIED:20250507T000322Z
UID:6786-1746640800-1746644400@pacoagency.org
SUMMARY:Reunión Virtual para Residentes de Cuadro 2 de Villa  | Virtual Meeting for Quad 2 Residents
DESCRIPTION:Reunión para los residentes de Villa Borinquen (Cuadro 2) vía Zoom. Estas reuniones ofrecen actualizaciones importantes\, un espacio para preguntas y preocupaciones\, y fortalecen la comunicación entre la administración y los inquilinos.\n—————————\nZoom Meeting for Villa Borinquen Quad 2 Residents. These meetings provide tenants with important updates\, allow space for questions and concerns\, and strengthen communication between management and residents.
URL:https://pacoagency.org/senior-event/reunion-virtual-para-residentes-de-cuadro-2-de-villa-virtual-meeting-for-quad-2-residents/
LOCATION:ZOOM
END:VEVENT
BEGIN:VEVENT
DTSTART;TZID=America/New_York:20250505T093000
DTEND;TZID=America/New_York:20250505T140000
DTSTAMP:20260421T140949
CREATED:20250422T210121Z
LAST-MODIFIED:20250504T233407Z
UID:6772-1746437400-1746453600@pacoagency.org
SUMMARY:Senior Bus Trip to Walmart | Viaje a Walmart
DESCRIPTION:Join us for a  shopping trip to Walmart in Secaucus! Transportation will be provided at no cost.\n📍 Departure/Salida: PACO Senior Center\n¡Únase a nosotros para un viaje de compras  al Walmart en Secaucus! Transporte gratuito incluido.\n📍 Departure/Salida: PACO Senior Center\nThis outing is made possible through a partnership with:\nCity of Jersey City – Department of Health & Human Services\nEn colaboración con:\nCiudad de Jersey City – Departamento de Salud y Servicios Humanos
URL:https://pacoagency.org/senior-event/senior-bus-trip-to-walmart-viaje-a-walmart/
END:VEVENT
BEGIN:VEVENT
DTSTART;TZID=America/New_York:20250502T140000
DTEND;TZID=America/New_York:20250502T160000
DTSTAMP:20260421T140949
CREATED:20250422T210121Z
LAST-MODIFIED:20250501T224958Z
UID:6771-1746194400-1746201600@pacoagency.org
SUMMARY:Guest Host 8th Grade Student from Waterfront Montessori | Día de Juegos de Primavera
DESCRIPTION:Join us for a joyful morning filled with games\, crafts\, and connection\, hosted by Oliver Collins\, an 8th grade student from Waterfront Montessori\, as part of his community service project.\nAcompáñenos a una mañana alegre llena de juegos\, manualidades y buena compañía\, organizada por Oliver Collins\, estudiante de octavo grado de Waterfront Montessori\, como parte de su proyecto comunitario.\nEnjoy / Disfrute de:\n🎨 Arts & Crafts / Artes y Manualidades\n🎲 Games like BINGO\, Connect Four\, and Jenga / Juegos como BINGO\, Conecta Cuatro y Jenga\n📸 Optional photo booth / Cabina de fotos opcional\n🌸 Spring treats and giveaways / Dulces y obsequios primaverales\nLet’s support Oliver and celebrate the spirit of community!\n¡Apoyemos a Oliver y celebremos el espíritu de comunidad!
URL:https://pacoagency.org/senior-event/guest-host-8th-grade-student-from-waterfront-montessori-dia-de-juegos-de-primavera/
LOCATION:390 Manila Ave-Community Room
END:VEVENT
BEGIN:VEVENT
DTSTART;TZID=America/New_York:20250501T123000
DTEND;TZID=America/New_York:20250501T133000
DTSTAMP:20260421T140949
CREATED:20250422T210121Z
LAST-MODIFIED:20250430T224809Z
UID:6769-1746102600-1746106200@pacoagency.org
SUMMARY:Senior Aerobics Class
DESCRIPTION:Free Aerobics Classes for Seniors\nSponsored by the City of Jersey City\, Dept. of Health Senior Affairs
URL:https://pacoagency.org/senior-event/senior-aerobics-class-8/
LOCATION:396 Manila Avenue
END:VEVENT
BEGIN:VEVENT
DTSTART;TZID=America/New_York:20250430T140000
DTEND;TZID=America/New_York:20250430T160000
DTSTAMP:20260421T140949
CREATED:20250412T184249Z
LAST-MODIFIED:20250429T222716Z
UID:6752-1746021600-1746028800@pacoagency.org
SUMMARY:Feliz Cumpleaños- Celebrating Seniors Birthday
DESCRIPTION:Birthday Month: Everyone who signs up brings a dish to share
URL:https://pacoagency.org/senior-event/feliz-cumpleanos-celebrating-seniors-birthday/
LOCATION:396 Manila Avenue
END:VEVENT
BEGIN:VEVENT
DTSTART;TZID=America/New_York:20250430T101500
DTEND;TZID=America/New_York:20250430T141500
DTSTAMP:20260421T140949
CREATED:20250313T194031Z
LAST-MODIFIED:20250429T222716Z
UID:6644-1746008100-1746022500@pacoagency.org
SUMMARY:Viaje a ShopRite -  Weekly Jersey City Suttle to ShopRite from Villa Borinquen
DESCRIPTION:Weekly Shopping to ShopRite from Villa Borinquen to ShopRite\nSponsored by the City of Jersey City\, Department of Health\, Division of Senior Affairs
URL:https://pacoagency.org/senior-event/viaje-a-shoprtie-weekly-jersey-city-suttle-to-shoprite-7/
LOCATION:400 Marin Blvd\, Jersey City\, NJ\, United States
END:VEVENT
BEGIN:VEVENT
DTSTART;TZID=America/New_York:20250428T093000
DTEND;TZID=America/New_York:20250428T103000
DTSTAMP:20260421T140949
CREATED:20250412T184249Z
LAST-MODIFIED:20250427T215752Z
UID:6751-1745832600-1745836200@pacoagency.org
SUMMARY:Cinema Day
DESCRIPTION:🎬🎉 FREE MOVIE DAY! 🍿🚍\n🎥 Get ready for a fun and FREE day at the movies! In partnership with Bill O’Dea\, is inviting you to enjoy a complimentary movie screening\, plus free transportation\, plus FREE popcorn & a drink!🍿\n🎬🎉 ¡DÍA DE CINE GRATIS! 🍿🚍\n🎥 ¡Prepárase para un día increíble y GRATIS en el cine! en colaboración con Bill O’Dea\, te invita a disfrutar de una función especial\, con transporte incluido\, totalmente gratis! 🚌✨
URL:https://pacoagency.org/senior-event/cinema-day-2/
LOCATION:360-394 Springfield Ave\, Newark\, NJ\, United States
END:VEVENT
BEGIN:VEVENT
DTSTART;TZID=America/New_York:20250424T123000
DTEND;TZID=America/New_York:20250424T133000
DTSTAMP:20260421T140949
CREATED:20250404T182931Z
LAST-MODIFIED:20250423T211302Z
UID:6734-1745497800-1745501400@pacoagency.org
SUMMARY:Senior Aerobics Class
DESCRIPTION:Free Aerobics Classes for Seniors\nSponsored by the City of Jersey City\, Dept. of Health Senior Affairs
URL:https://pacoagency.org/senior-event/senior-aerobics-class-5/
LOCATION:396 Manila Avenue
END:VEVENT
BEGIN:VEVENT
DTSTART;TZID=America/New_York:20250424T123000
DTEND;TZID=America/New_York:20250424T133000
DTSTAMP:20260421T140949
CREATED:20250404T182931Z
LAST-MODIFIED:20250404T182931Z
UID:6736-1745497800-1745501400@pacoagency.org
SUMMARY:Senior Aerobics Class
DESCRIPTION:Free Aerobics Classes for Seniors\nSponsored by the City of Jersey City\, Dept. of Health Senior Affairs
URL:https://pacoagency.org/senior-event/senior-aerobics-class-7/
LOCATION:396 Manila Avenue
END:VEVENT
BEGIN:VEVENT
DTSTART;TZID=America/New_York:20250423T101500
DTEND;TZID=America/New_York:20250423T141500
DTSTAMP:20260421T140949
CREATED:20250313T194031Z
LAST-MODIFIED:20250422T210121Z
UID:6643-1745403300-1745417700@pacoagency.org
SUMMARY:Viaje a ShopRite -  Weekly Jersey City Suttle to ShopRite from Villa Borinquen
DESCRIPTION:Weekly Shopping to ShopRite from Villa Borinquen to ShopRite\nSponsored by the City of Jersey City\, Department of Health\, Division of Senior Affairs
URL:https://pacoagency.org/senior-event/viaje-a-shoprtie-weekly-jersey-city-suttle-to-shoprite-6/
LOCATION:400 Marin Blvd\, Jersey City\, NJ\, United States
END:VEVENT
BEGIN:VEVENT
DTSTART;VALUE=DATE:20250418
DTEND;VALUE=DATE:20250419
DTSTAMP:20260421T140949
CREATED:20250412T184249Z
LAST-MODIFIED:20250417T194216Z
UID:6750-1744934400-1745020799@pacoagency.org
SUMMARY:OFFICE CLOSED / OFICINAS CERRADAS
DESCRIPTION:PACO Offices Closed Friday\, April 18\, 2025\nOficianas de PACO estaran ceradas este viernes 18 de Abril
URL:https://pacoagency.org/senior-event/office-closed-oficinas-cerradas/
LOCATION:396 Manila Avenue
END:VEVENT
BEGIN:VEVENT
DTSTART;TZID=America/New_York:20250413T070000
DTEND;TZID=America/New_York:20250413T183500
DTSTAMP:20260421T140949
CREATED:20250412T184249Z
LAST-MODIFIED:20250413T185715Z
UID:6749-1744527600-1744569300@pacoagency.org
SUMMARY:3rd Annual Jersey City Marathon and Half Marathon
DESCRIPTION:https://jerseycitymarathon.com/jersey-city-residents/
URL:https://pacoagency.org/senior-event/3rd-annual-jersey-city-marathon-and-half-marathon/
END:VEVENT
END:VCALENDAR